BEGIN:VCALENDAR
VERSION:2.0
PRODID:-//FLOCK Running - ECPv6.15.20//NONSGML v1.0//EN
CALSCALE:GREGORIAN
METHOD:PUBLISH
X-WR-CALNAME:FLOCK Running
X-ORIGINAL-URL:https://flockrunning.com
X-WR-CALDESC:Events for FLOCK Running
REFRESH-INTERVAL;VALUE=DURATION:PT1H
X-Robots-Tag:noindex
X-PUBLISHED-TTL:PT1H
BEGIN:VTIMEZONE
TZID:Europe/London
BEGIN:DAYLIGHT
TZOFFSETFROM:+0000
TZOFFSETTO:+0100
TZNAME:BST
DTSTART:20240331T010000
END:DAYLIGHT
BEGIN:STANDARD
TZOFFSETFROM:+0100
TZOFFSETTO:+0000
TZNAME:GMT
DTSTART:20241027T010000
END:STANDARD
BEGIN:DAYLIGHT
TZOFFSETFROM:+0000
TZOFFSETTO:+0100
TZNAME:BST
DTSTART:20250330T010000
END:DAYLIGHT
BEGIN:STANDARD
TZOFFSETFROM:+0100
TZOFFSETTO:+0000
TZNAME:GMT
DTSTART:20251026T010000
END:STANDARD
BEGIN:DAYLIGHT
TZOFFSETFROM:+0000
TZOFFSETTO:+0100
TZNAME:BST
DTSTART:20260329T010000
END:DAYLIGHT
BEGIN:STANDARD
TZOFFSETFROM:+0100
TZOFFSETTO:+0000
TZNAME:GMT
DTSTART:20261025T010000
END:STANDARD
END:VTIMEZONE
BEGIN:VEVENT
DTSTART;TZID=Europe/London:20250706T080000
DTEND;TZID=Europe/London:20250706T093000
DTSTAMP:20260420T064401
CREATED:20250605T120957Z
LAST-MODIFIED:20250705T155917Z
UID:10160-1751788800-1751794200@flockrunning.com
SUMMARY:Level 2 - Duncton Hill (July) 7K
DESCRIPTION:[vc_row full_width=”stretch_row” inverse=”” css=”.vc_custom_1511433765354{background-color: #383737 !important;}”][/vc_row][vc_column][/vc_column][vc_column_text css=”.vc_custom_1511430435401{background-color: #383737 !important;}”]\n[/vc_column_text][vc_empty_space][trx_columns count=”3″ margins=””][trx_column_item][vc_icon icon_fontawesome=”fas fa-pound-sign” color=”custom” background_style=”rounded” background_color=”white” size=”xl” align=”center” css_animation=”rollIn” custom_color=”#ff2e63″][vc_column_text] \n£4 CLUB MEMBERS \n[/vc_column_text][/trx_column_item][trx_column_item][vc_icon icon_fontawesome=”fas fa-mountain” color=”custom” background_style=”rounded” background_color=”white” size=”xl” align=”center” css_animation=”rollIn” custom_color=”#ff2e63″][vc_column_text] \nTOTAL ASCENT: 293M\n \n[/vc_column_text][/trx_column_item][trx_column_item][vc_icon icon_fontawesome=”fas fa-stopwatch” color=”custom” background_style=”rounded” background_color=”white” size=”xl” align=”center” css_animation=”rollIn” custom_color=”#ff2e63″][vc_column_text] \nLEVEL 2 \n[/vc_column_text][/trx_column_item][/trx_columns][trx_call_to_action style=”4″ align=”center” accent=”yes” custom=”no” description=”This Level 2 guided trail run from Duncton Hill view point is a corker. Experience stunning trails at the back of Seaford College that snake the back of the South Downs Way. \nTHIS GROUP TRAIL RUN IS £4 TO ATTEND. PLEASE NOTIFY THE RUN LEADER BY ENTERING YOUR NAME BELOW AND HITTING THE ‘I’M RUNNING WITH YOU’ BUTTON \n“][/trx_call_to_action][trx_countdown date=”2025-07-06″ time=”08:00″ style=”2″ align=”center”][vc_row][vc_column]\n\n\n		\n			\n				\n				 © OpenStreetMap contributors\n			\n			\n			\n			\n		\n		\n		Download file: Level-2-Duncton-Hill-V2.gpx
URL:https://flockrunning.com/event/level-2-duncton-hill-july-7k/
LOCATION:Duncton Hill View Point\, Duncton Hill View Point
CATEGORIES:7K Trail Run,LEVEL 2,Multi Terrain,Run Training,Trail Run Sussex,Trail Running
END:VEVENT
BEGIN:VEVENT
DTSTART;TZID=Europe/London:20250705T090000
DTEND;TZID=Europe/London:20250705T103000
DTSTAMP:20260420T064401
CREATED:20250604T155736Z
LAST-MODIFIED:20250604T155817Z
UID:10145-1751706000-1751711400@flockrunning.com
SUMMARY:Level 1 - Eartham Woods (July) 5K
DESCRIPTION:[vc_row full_width=”stretch_row” inverse=”” css=”.vc_custom_1511433765354{background-color: #383737 !important;}”][/vc_row][vc_column][/vc_column][vc_column_text css=”.vc_custom_1511430435401{background-color: #383737 !important;}”]\n[/vc_column_text][vc_empty_space][trx_columns count=”3″ margins=””][trx_column_item][vc_icon icon_fontawesome=”fas fa-pound-sign” color=”custom” background_style=”rounded” background_color=”white” size=”xl” align=”center” css_animation=”rollIn” custom_color=”#ff2e63″][vc_column_text] \n£4 CLUB MEMBERS \n[/vc_column_text][/trx_column_item][trx_column_item][vc_icon icon_fontawesome=”fas fa-mountain” color=”custom” background_style=”rounded” background_color=”white” size=”xl” align=”center” css_animation=”rollIn” custom_color=”#ff2e63″][vc_column_text] \nTOTAL ASCENT: 133M\n \n[/vc_column_text][/trx_column_item][trx_column_item][vc_icon icon_fontawesome=”fas fa-stopwatch” color=”custom” background_style=”rounded” background_color=”white” size=”xl” align=”center” css_animation=”rollIn” custom_color=”#ff2e63″][vc_column_text] \nLEVEL 1 \n[/vc_column_text][/trx_column_item][/trx_columns][trx_call_to_action style=”4″ align=”center” accent=”yes” custom=”no” description=”This Level 1 guided trail run will be a mix of hiking and slow jogging with the focus on ensuring the group is comfortable. Discover the beauty of Eartham Woods on this stunning 5km trail loop.  \nTHIS GROUP TRAIL RUN IS £4 TO ATTEND. PLEASE NOTIFY THE RUN LEADER BY ENTERING YOUR NAME BELOW AND HITTING THE ‘I’M RUNNING WITH YOU’ BUTTON \n“][/trx_call_to_action][trx_countdown date=”2025-07-05″ time=”09:00″ style=”2″ align=”center”][vc_row][vc_column]\n\n\n		\n			\n				\n				 © OpenStreetMap contributors\n			\n			\n			\n			\n		\n		\n		Download file: Level-1-Eartham-Woods-July-5K.gpx
URL:https://flockrunning.com/event/level-1-eartham-woods-july-5k/
LOCATION:Eartham Wood\, Eartham Woods Car Park
CATEGORIES:5K Trail Run,LEVEL 1,Multi Terrain,Run Training,Trail Run Sussex,Trail Running
END:VEVENT
END:VCALENDAR