BEGIN:VCALENDAR
VERSION:2.0
PRODID:-//FLOCK Running - ECPv6.15.20//NONSGML v1.0//EN
CALSCALE:GREGORIAN
METHOD:PUBLISH
X-ORIGINAL-URL:https://flockrunning.com
X-WR-CALDESC:Events for FLOCK Running
REFRESH-INTERVAL;VALUE=DURATION:PT1H
X-Robots-Tag:noindex
X-PUBLISHED-TTL:PT1H
BEGIN:VTIMEZONE
TZID:Europe/London
BEGIN:DAYLIGHT
TZOFFSETFROM:+0000
TZOFFSETTO:+0100
TZNAME:BST
DTSTART:20240331T010000
END:DAYLIGHT
BEGIN:STANDARD
TZOFFSETFROM:+0100
TZOFFSETTO:+0000
TZNAME:GMT
DTSTART:20241027T010000
END:STANDARD
BEGIN:DAYLIGHT
TZOFFSETFROM:+0000
TZOFFSETTO:+0100
TZNAME:BST
DTSTART:20250330T010000
END:DAYLIGHT
BEGIN:STANDARD
TZOFFSETFROM:+0100
TZOFFSETTO:+0000
TZNAME:GMT
DTSTART:20251026T010000
END:STANDARD
BEGIN:DAYLIGHT
TZOFFSETFROM:+0000
TZOFFSETTO:+0100
TZNAME:BST
DTSTART:20260329T010000
END:DAYLIGHT
BEGIN:STANDARD
TZOFFSETFROM:+0100
TZOFFSETTO:+0000
TZNAME:GMT
DTSTART:20261025T010000
END:STANDARD
END:VTIMEZONE
BEGIN:VEVENT
DTSTART;TZID=Europe/London:20251004T080000
DTEND;TZID=Europe/London:20251004T090000
DTSTAMP:20260420T040355
CREATED:20250928T111634Z
LAST-MODIFIED:20250928T111708Z
UID:10440-1759564800-1759568400@flockrunning.com
SUMMARY:Level 1 - Eartham Woods 4K (October)
DESCRIPTION:[vc_row full_width=”stretch_row” inverse=”” css=”.vc_custom_1511433765354{background-color: #383737 !important;}”][/vc_row][vc_column][/vc_column][vc_column_text css=”.vc_custom_1511430435401{background-color: #383737 !important;}”]\n[/vc_column_text][vc_empty_space][trx_columns count=”3″ margins=””][trx_column_item][vc_icon icon_fontawesome=”fas fa-pound-sign” color=”custom” background_style=”rounded” background_color=”white” size=”xl” align=”center” css_animation=”rollIn” custom_color=”#ff2e63″][vc_column_text] \n£4 CLUB MEMBERS \n[/vc_column_text][/trx_column_item][trx_column_item][vc_icon icon_fontawesome=”fas fa-mountain” color=”custom” background_style=”rounded” background_color=”white” size=”xl” align=”center” css_animation=”rollIn” custom_color=”#ff2e63″][vc_column_text] \nTOTAL ASCENT: 104M\n \n[/vc_column_text][/trx_column_item][trx_column_item][vc_icon icon_fontawesome=”fas fa-stopwatch” color=”custom” background_style=”rounded” background_color=”white” size=”xl” align=”center” css_animation=”rollIn” custom_color=”#ff2e63″][vc_column_text] \nLEVEL 1 \n[/vc_column_text][/trx_column_item][/trx_columns][trx_call_to_action style=”4″ align=”center” accent=”yes” custom=”no” description=”This Level 1 guided trail run will be a mix of hiking and slow jogging with the focus on ensuring the group is comfortable. Discover the beauty of Eartham Woods with this entry level\, super inclusive trail hike.  \nTHIS GROUP TRAIL RUN IS £4 TO ATTEND. PLEASE NOTIFY THE RUN LEADER BY ENTERING YOUR NAME BELOW AND HITTING THE ‘I’M RUNNING WITH YOU’ BUTTON \n“][/trx_call_to_action][trx_countdown date=”2025-10-04″ time=”08:00″ style=”2″ align=”center”][vc_row][vc_column]\n\n\n		\n			\n				\n				 © OpenStreetMap contributors\n			\n			\n			\n			\n		\n		\n		Download file: Level-1-Eartham-Woods-4K-October.gpx
URL:https://flockrunning.com/event/level-1-eartham-woods-4k-october/
LOCATION:Eartham Wood\, Eartham Woods Car Park
CATEGORIES:4k Trail Run,LEVEL 1,Multi Terrain,Run Training,Slouch to 5K,Trail Run Sussex,Trail Running
END:VEVENT
BEGIN:VEVENT
DTSTART;TZID=Europe/London:20251004T090000
DTEND;TZID=Europe/London:20251004T100000
DTSTAMP:20260420T040355
CREATED:20250928T112420Z
LAST-MODIFIED:20250928T112420Z
UID:10444-1759568400-1759572000@flockrunning.com
SUMMARY:Level 2 - Eartham Woods 6K (October)
DESCRIPTION:[vc_row full_width=”stretch_row” inverse=”” css=”.vc_custom_1511433765354{background-color: #383737 !important;}”][/vc_row][vc_column][/vc_column][vc_column_text css=”.vc_custom_1511430435401{background-color: #383737 !important;}”]\n[/vc_column_text][vc_empty_space][trx_columns count=”3″ margins=””][trx_column_item][vc_icon icon_fontawesome=”fas fa-pound-sign” color=”custom” background_style=”rounded” background_color=”white” size=”xl” align=”center” css_animation=”rollIn” custom_color=”#ff2e63″][vc_column_text] \n£4 CLUB MEMBERS \n[/vc_column_text][/trx_column_item][trx_column_item][vc_icon icon_fontawesome=”fas fa-mountain” color=”custom” background_style=”rounded” background_color=”white” size=”xl” align=”center” css_animation=”rollIn” custom_color=”#ff2e63″][vc_column_text] \nTOTAL ASCENT: 219M\n \n[/vc_column_text][/trx_column_item][trx_column_item][vc_icon icon_fontawesome=”fas fa-stopwatch” color=”custom” background_style=”rounded” background_color=”white” size=”xl” align=”center” css_animation=”rollIn” custom_color=”#ff2e63″][vc_column_text] \nLEVEL 2 \n[/vc_column_text][/trx_column_item][/trx_columns][trx_call_to_action style=”4″ align=”center” accent=”yes” custom=”no” description=”This Level 2 guided trail run meeting at Duncton Hill view point is stunning. Discover amazing views from Barlavington Down as we loop around the back of Duncton Chalk pit.  \nTHIS GROUP TRAIL RUN IS £4 TO ATTEND. PLEASE NOTIFY THE RUN LEADER BY ENTERING YOUR NAME BELOW AND HITTING THE ‘I’M RUNNING WITH YOU’ BUTTON \n“][/trx_call_to_action][trx_countdown date=”2025-10-04″ time=”09:00″ style=”2″ align=”center”][vc_row][vc_column]\n\n\n		\n			\n				\n				 © OpenStreetMap contributors\n			\n			\n			\n			\n		\n		\n		Download file: Level-2-Eartham-Woods-6K-October.gpx
URL:https://flockrunning.com/event/level-2-eartham-woods-6k-october/
LOCATION:Eartham Wood\, Eartham Woods Car Park
CATEGORIES:6K Trail Run,LEVEL 2,Multi Terrain,Run Training,Trail Run Sussex,Trail Running
END:VEVENT
END:VCALENDAR