BEGIN:VCALENDAR
VERSION:2.0
PRODID:-//FLOCK Running - ECPv6.15.20//NONSGML v1.0//EN
CALSCALE:GREGORIAN
METHOD:PUBLISH
X-WR-CALNAME:FLOCK Running
X-ORIGINAL-URL:https://flockrunning.com
X-WR-CALDESC:Events for FLOCK Running
REFRESH-INTERVAL;VALUE=DURATION:PT1H
X-Robots-Tag:noindex
X-PUBLISHED-TTL:PT1H
BEGIN:VTIMEZONE
TZID:Europe/London
BEGIN:DAYLIGHT
TZOFFSETFROM:+0000
TZOFFSETTO:+0100
TZNAME:BST
DTSTART:20240331T010000
END:DAYLIGHT
BEGIN:STANDARD
TZOFFSETFROM:+0100
TZOFFSETTO:+0000
TZNAME:GMT
DTSTART:20241027T010000
END:STANDARD
BEGIN:DAYLIGHT
TZOFFSETFROM:+0000
TZOFFSETTO:+0100
TZNAME:BST
DTSTART:20250330T010000
END:DAYLIGHT
BEGIN:STANDARD
TZOFFSETFROM:+0100
TZOFFSETTO:+0000
TZNAME:GMT
DTSTART:20251026T010000
END:STANDARD
BEGIN:DAYLIGHT
TZOFFSETFROM:+0000
TZOFFSETTO:+0100
TZNAME:BST
DTSTART:20260329T010000
END:DAYLIGHT
BEGIN:STANDARD
TZOFFSETFROM:+0100
TZOFFSETTO:+0000
TZNAME:GMT
DTSTART:20261025T010000
END:STANDARD
END:VTIMEZONE
BEGIN:VEVENT
DTSTART;TZID=Europe/London:20251123T080000
DTEND;TZID=Europe/London:20251123T093000
DTSTAMP:20260420T004635
CREATED:20251121T153406Z
LAST-MODIFIED:20251121T153406Z
UID:10479-1763884800-1763890200@flockrunning.com
SUMMARY:Level 3 - Honeycombe Copse 8K (November)
DESCRIPTION:[vc_row full_width=”stretch_row” inverse=”” css=”.vc_custom_1511433765354{background-color: #383737 !important;}”][/vc_row][vc_column][/vc_column][vc_column_text css=”.vc_custom_1511430435401{background-color: #383737 !important;}”]\n[/vc_column_text][vc_empty_space][trx_columns count=”3″ margins=””][trx_column_item][vc_icon icon_fontawesome=”fas fa-pound-sign” color=”custom” background_style=”rounded” background_color=”white” size=”xl” align=”center” css_animation=”rollIn” custom_color=”#ff2e63″][vc_column_text] \n£4 CLUB MEMBERS \n[/vc_column_text][/trx_column_item][trx_column_item][vc_icon icon_fontawesome=”fas fa-mountain” color=”custom” background_style=”rounded” background_color=”white” size=”xl” align=”center” css_animation=”rollIn” custom_color=”#ff2e63″][vc_column_text] \nTOTAL ASCENT: 228M\n \n[/vc_column_text][/trx_column_item][trx_column_item][vc_icon icon_fontawesome=”fas fa-stopwatch” color=”custom” background_style=”rounded” background_color=”white” size=”xl” align=”center” css_animation=”rollIn” custom_color=”#ff2e63″][vc_column_text] \nLEVEL 3 \n[/vc_column_text][/trx_column_item][/trx_columns][trx_call_to_action style=”4″ align=”center” accent=”yes” custom=”no” description=”This Level 3 guided trail run meets outside the Partridge Inn\, Singleton\, we climb up through Honeycombe Copse completing a loop around Levin Down. A super stunning 8km trail run with amazing views.  \nTHIS GROUP TRAIL RUN IS £4 TO ATTEND. PLEASE NOTIFY THE RUN LEADER BY ENTERING YOUR NAME BELOW AND HITTING THE ‘I’M RUNNING WITH YOU’ BUTTON \n“][/trx_call_to_action][trx_countdown date=”2025-11-23″ time=”08:00″ style=”2″ align=”center”][vc_row][vc_column]\n\n\n		\n			\n				\n				 © OpenStreetMap contributors\n			\n			\n			\n			\n		\n		\n		Download file: Level-3-Honeycombe-Copse-8K-November-1.gpx
URL:https://flockrunning.com/event/level-3-honeycombe-copse-8k-november/
LOCATION:The Partridge Inn\, Singleton\, Use What3Words link below:\, United Kingdom
CATEGORIES:8K Trail Run,LEVEL 3,Multi Terrain,Run Training,Trail Run Sussex,Trail Running
END:VEVENT
BEGIN:VEVENT
DTSTART;TZID=Europe/London:20251129T090000
DTEND;TZID=Europe/London:20251129T103000
DTSTAMP:20260420T004635
CREATED:20251124T185112Z
LAST-MODIFIED:20251124T185112Z
UID:10486-1764406800-1764412200@flockrunning.com
SUMMARY:Level 2 - Counters Gate 7K (November)
DESCRIPTION:[vc_row full_width=”stretch_row” inverse=”” css=”.vc_custom_1511433765354{background-color: #383737 !important;}”][/vc_row][vc_column][/vc_column][vc_column_text css=”.vc_custom_1511430435401{background-color: #383737 !important;}”]\n[/vc_column_text][vc_empty_space][trx_columns count=”3″ margins=””][trx_column_item][vc_icon icon_fontawesome=”fas fa-pound-sign” color=”custom” background_style=”rounded” background_color=”white” size=”xl” align=”center” css_animation=”rollIn” custom_color=”#ff2e63″][vc_column_text] \n£4 CLUB MEMBERS \n[/vc_column_text][/trx_column_item][trx_column_item][vc_icon icon_fontawesome=”fas fa-mountain” color=”custom” background_style=”rounded” background_color=”white” size=”xl” align=”center” css_animation=”rollIn” custom_color=”#ff2e63″][vc_column_text] \nTOTAL ASCENT: 138M\n \n[/vc_column_text][/trx_column_item][trx_column_item][vc_icon icon_fontawesome=”fas fa-stopwatch” color=”custom” background_style=”rounded” background_color=”white” size=”xl” align=”center” css_animation=”rollIn” custom_color=”#ff2e63″][vc_column_text] \nLEVEL 3 \n[/vc_column_text][/trx_column_item][/trx_columns][trx_call_to_action style=”4″ align=”center” accent=”yes” custom=”no” description=”This Level 2 guided run will meet at Counters Gate car park near the Goodwood Racecourse. You’ll be guided out on suoper fun trails that loop around the Goodwood Estate. Guided at a slow to steady so very relaxed.  \nTHIS GROUP TRAIL RUN IS £4 TO ATTEND. PLEASE NOTIFY THE RUN LEADER BY ENTERING YOUR NAME BELOW AND HITTING THE ‘I’M RUNNING WITH YOU’ BUTTON \n“][/trx_call_to_action][trx_countdown date=”2025-11-29″ time=”09:00″ style=”2″ align=”center”][vc_row][vc_column]\n\n\n		\n			\n				\n				 © OpenStreetMap contributors\n			\n			\n			\n			\n		\n		\n		Download file: Level2-Counters-Gate-7K.gpx
URL:https://flockrunning.com/event/level-2-counters-gate-7k-november/
LOCATION:Counters Gate Car Park\, Counters Gate\, Selhurstpark Road
CATEGORIES:7K Trail Run,LEVEL 2,Multi Terrain,Run Training,Trail Run Sussex,Trail Running
END:VEVENT
END:VCALENDAR