BEGIN:VCALENDAR
VERSION:2.0
PRODID:-//FLOCK Running - ECPv6.15.20//NONSGML v1.0//EN
CALSCALE:GREGORIAN
METHOD:PUBLISH
X-ORIGINAL-URL:https://flockrunning.com
X-WR-CALDESC:Events for FLOCK Running
REFRESH-INTERVAL;VALUE=DURATION:PT1H
X-Robots-Tag:noindex
X-PUBLISHED-TTL:PT1H
BEGIN:VTIMEZONE
TZID:Europe/London
BEGIN:DAYLIGHT
TZOFFSETFROM:+0000
TZOFFSETTO:+0100
TZNAME:BST
DTSTART:20240331T010000
END:DAYLIGHT
BEGIN:STANDARD
TZOFFSETFROM:+0100
TZOFFSETTO:+0000
TZNAME:GMT
DTSTART:20241027T010000
END:STANDARD
BEGIN:DAYLIGHT
TZOFFSETFROM:+0000
TZOFFSETTO:+0100
TZNAME:BST
DTSTART:20250330T010000
END:DAYLIGHT
BEGIN:STANDARD
TZOFFSETFROM:+0100
TZOFFSETTO:+0000
TZNAME:GMT
DTSTART:20251026T010000
END:STANDARD
BEGIN:DAYLIGHT
TZOFFSETFROM:+0000
TZOFFSETTO:+0100
TZNAME:BST
DTSTART:20260329T010000
END:DAYLIGHT
BEGIN:STANDARD
TZOFFSETFROM:+0100
TZOFFSETTO:+0000
TZNAME:GMT
DTSTART:20261025T010000
END:STANDARD
END:VTIMEZONE
BEGIN:VEVENT
DTSTART;TZID=Europe/London:20250904T190000
DTEND;TZID=Europe/London:20250904T203000
DTSTAMP:20260420T035734
CREATED:20250901T100533Z
LAST-MODIFIED:20250901T100533Z
UID:10430-1757012400-1757017800@flockrunning.com
SUMMARY:Level 3 - Eartham Woods 7K (September)
DESCRIPTION:[vc_row full_width=”stretch_row” inverse=”” css=”.vc_custom_1511433765354{background-color: #383737 !important;}”][/vc_row][vc_column][/vc_column][vc_column_text css=”.vc_custom_1511430435401{background-color: #383737 !important;}”]\n[/vc_column_text][vc_empty_space][trx_columns count=”3″ margins=””][trx_column_item][vc_icon icon_fontawesome=”fas fa-pound-sign” color=”custom” background_style=”rounded” background_color=”white” size=”xl” align=”center” css_animation=”rollIn” custom_color=”#ff2e63″][vc_column_text] \n£4 CLUB MEMBERS \n[/vc_column_text][/trx_column_item][trx_column_item][vc_icon icon_fontawesome=”fas fa-mountain” color=”custom” background_style=”rounded” background_color=”white” size=”xl” align=”center” css_animation=”rollIn” custom_color=”#ff2e63″][vc_column_text] \nTOTAL ASCENT: 155M\n \n[/vc_column_text][/trx_column_item][trx_column_item][vc_icon icon_fontawesome=”fas fa-stopwatch” color=”custom” background_style=”rounded” background_color=”white” size=”xl” align=”center” css_animation=”rollIn” custom_color=”#ff2e63″][vc_column_text] \nLEVEL 3 \n[/vc_column_text][/trx_column_item][/trx_columns][trx_call_to_action style=”4″ align=”center” accent=”yes” custom=”no” description=”This Level 3 guided trail run meets in Eartham Woods\, we then climb up through the woodslooping around to complete this super fun 7km trail route.  \nTHIS GROUP TRAIL RUN IS £4 TO ATTEND. PLEASE NOTIFY THE RUN LEADER BY ENTERING YOUR NAME BELOW AND HITTING THE ‘I’M RUNNING WITH YOU’ BUTTON \n“][/trx_call_to_action][trx_countdown date=”2025-09-04″ time=”19:00″ style=”2″ align=”center”][vc_row][vc_column]\n\n\n		\n			\n				\n				 © OpenStreetMap contributors\n			\n			\n			\n			\n		\n		\n		Download file: Level-3-Eartham-Woods-7K-September.gpx
URL:https://flockrunning.com/event/level-3-eartham-woods-7k-september/
LOCATION:Eartham Wood\, Eartham Wood Car Park\, West Sussex\, United Kingdom
CATEGORIES:7K Trail Run,LEVEL 3,Multi Terrain,Run Training,Trail Run Sussex,Trail Running
END:VEVENT
BEGIN:VEVENT
DTSTART;TZID=Europe/London:20250906T090000
DTEND;TZID=Europe/London:20250906T100000
DTSTAMP:20260420T035734
CREATED:20250804T135720Z
LAST-MODIFIED:20250901T101508Z
UID:10422-1757149200-1757152800@flockrunning.com
SUMMARY:Level 1 - Selhurstpark Woods 4K (September)
DESCRIPTION:[vc_row full_width=”stretch_row” inverse=”” css=”.vc_custom_1511433765354{background-color: #383737 !important;}”][/vc_row][vc_column][/vc_column][vc_column_text css=”.vc_custom_1511430435401{background-color: #383737 !important;}”]\n[/vc_column_text][vc_empty_space][trx_columns count=”3″ margins=””][trx_column_item][vc_icon icon_fontawesome=”fas fa-pound-sign” color=”custom” background_style=”rounded” background_color=”white” size=”xl” align=”center” css_animation=”rollIn” custom_color=”#ff2e63″][vc_column_text] \n£4 CLUB MEMBERS \n[/vc_column_text][/trx_column_item][trx_column_item][vc_icon icon_fontawesome=”fas fa-mountain” color=”custom” background_style=”rounded” background_color=”white” size=”xl” align=”center” css_animation=”rollIn” custom_color=”#ff2e63″][vc_column_text] \nTOTAL ASCENT: 104M\n \n[/vc_column_text][/trx_column_item][trx_column_item][vc_icon icon_fontawesome=”fas fa-stopwatch” color=”custom” background_style=”rounded” background_color=”white” size=”xl” align=”center” css_animation=”rollIn” custom_color=”#ff2e63″][vc_column_text] \nLEVEL 1 \n[/vc_column_text][/trx_column_item][/trx_columns][trx_call_to_action style=”4″ align=”center” accent=”yes” custom=”no” description=”This Level 1 guided trail run will be a mix of hiking and slow jogging with the focus on ensuring the group is comfortable. Discover the beauty of Selhurstpark Woods with this entry level\, super inclusive trail hike.  \nTHIS GROUP TRAIL RUN IS £4 TO ATTEND. PLEASE NOTIFY THE RUN LEADER BY ENTERING YOUR NAME BELOW AND HITTING THE ‘I’M RUNNING WITH YOU’ BUTTON \n“][/trx_call_to_action][trx_countdown date=”2025-09-06″ time=”09:00″ style=”2″ align=”center”][vc_row][vc_column]\n\n\n		\n			\n				\n				 © OpenStreetMap contributors\n			\n			\n			\n			\n		\n		\n		Download file: Level-1-Selhurstpark-Woods-4K-September.gpx
URL:https://flockrunning.com/event/level-1-selhurstpark-woods-4k-september/
LOCATION:Selhurst Park\, Selhurst Park Woods\, Selhurst Park Road
CATEGORIES:4k Trail Run,LEVEL 1,Multi Terrain,Run Training,Slouch to 5K,Trail Run Sussex,Trail Running
END:VEVENT
BEGIN:VEVENT
DTSTART;TZID=Europe/London:20250907T080000
DTEND;TZID=Europe/London:20250907T093000
DTSTAMP:20260420T035734
CREATED:20250901T102711Z
LAST-MODIFIED:20250901T102711Z
UID:10434-1757232000-1757237400@flockrunning.com
SUMMARY:Level 4 - Angmering Park 12K (September)
DESCRIPTION:[vc_row full_width=”stretch_row” inverse=”” css=”.vc_custom_1511433765354{background-color: #383737 !important;}”][/vc_row][vc_column][/vc_column][vc_column_text css=”.vc_custom_1511430435401{background-color: #383737 !important;}”]\n[/vc_column_text][vc_empty_space][trx_columns count=”3″ margins=””][trx_column_item][vc_icon icon_fontawesome=”fas fa-pound-sign” color=”custom” background_style=”rounded” background_color=”white” size=”xl” align=”center” css_animation=”rollIn” custom_color=”#ff2e63″][vc_column_text] \n£4 CLUB MEMBERS \n[/vc_column_text][/trx_column_item][trx_column_item][vc_icon icon_fontawesome=”fas fa-mountain” color=”custom” background_style=”rounded” background_color=”white” size=”xl” align=”center” css_animation=”rollIn” custom_color=”#ff2e63″][vc_column_text] \nTOTAL ASCENT: 160M\n \n[/vc_column_text][/trx_column_item][trx_column_item][vc_icon icon_fontawesome=”fas fa-stopwatch” color=”custom” background_style=”rounded” background_color=”white” size=”xl” align=”center” css_animation=”rollIn” custom_color=”#ff2e63″][vc_column_text] \nLEVEL 4 \n[/vc_column_text][/trx_column_item][/trx_columns][trx_call_to_action style=”4″ align=”center” accent=”yes” custom=”no” description=”This Level 4 guided trail meeting at Angmering Park will head out through the some of the oldest pine wood in the park. We then climb up to Windy Ridge and drop back to form a fantastic 12km trail loop.  \nTHIS GROUP TRAIL RUN IS £4 TO ATTEND. PLEASE NOTIFY THE RUN LEADER BY ENTERING YOUR NAME BELOW AND HITTING THE ‘I’M RUNNING WITH YOU’ BUTTON \n“][/trx_call_to_action][trx_countdown date=”2025-09-07″ time=”08:00″ style=”2″ align=”center”][vc_row][vc_column]\n\n\n		\n			\n				\n				 © OpenStreetMap contributors\n			\n			\n			\n			\n		\n		\n		Download file: Level-4-Angmering-Park-12K-September.gpx
URL:https://flockrunning.com/event/level-4-angmering-park-12k-september/
LOCATION:Angmering Park\, Angmering Park\, Dover Lane
CATEGORIES:12K Trai Run,LEVEL 4,Multi Terrain,Run Training,Trail Run Sussex,Trail Running
END:VEVENT
END:VCALENDAR