BEGIN:VCALENDAR
VERSION:2.0
PRODID:-//FLOCK Running - ECPv6.15.20//NONSGML v1.0//EN
CALSCALE:GREGORIAN
METHOD:PUBLISH
X-WR-CALNAME:FLOCK Running
X-ORIGINAL-URL:https://flockrunning.com
X-WR-CALDESC:Events for FLOCK Running
REFRESH-INTERVAL;VALUE=DURATION:PT1H
X-Robots-Tag:noindex
X-PUBLISHED-TTL:PT1H
BEGIN:VTIMEZONE
TZID:Europe/London
BEGIN:DAYLIGHT
TZOFFSETFROM:+0000
TZOFFSETTO:+0100
TZNAME:BST
DTSTART:20250330T010000
END:DAYLIGHT
BEGIN:STANDARD
TZOFFSETFROM:+0100
TZOFFSETTO:+0000
TZNAME:GMT
DTSTART:20251026T010000
END:STANDARD
BEGIN:DAYLIGHT
TZOFFSETFROM:+0000
TZOFFSETTO:+0100
TZNAME:BST
DTSTART:20260329T010000
END:DAYLIGHT
BEGIN:STANDARD
TZOFFSETFROM:+0100
TZOFFSETTO:+0000
TZNAME:GMT
DTSTART:20261025T010000
END:STANDARD
BEGIN:DAYLIGHT
TZOFFSETFROM:+0000
TZOFFSETTO:+0100
TZNAME:BST
DTSTART:20270328T010000
END:DAYLIGHT
BEGIN:STANDARD
TZOFFSETFROM:+0100
TZOFFSETTO:+0000
TZNAME:GMT
DTSTART:20271031T010000
END:STANDARD
END:VTIMEZONE
BEGIN:VEVENT
DTSTART;TZID=Europe/London:20260505T190000
DTEND;TZID=Europe/London:20260505T203000
DTSTAMP:20260419T200313
CREATED:20260411T165845Z
LAST-MODIFIED:20260419T145648Z
UID:11002-1778007600-1778013000@flockrunning.com
SUMMARY:Level 3 - The Sunset Trails Kingley Vale 7K
DESCRIPTION:
URL:https://flockrunning.com/event/level-3-the-sunset-trails-kingley-vale-7k/
LOCATION:Kingley Vale\, West Stoke Car Park\, United Kingdom
CATEGORIES:7K Trail Run,LEVEL 3,Sunset Trails,Trail Run Sussex,Trail Running
ATTACH;FMTTYPE=image/jpeg:https://flockrunning.com/wp-content/uploads/2026/03/2.-FLOCK-Sunset-Trail-Running.jpg
END:VEVENT
END:VCALENDAR