BEGIN:VCALENDAR
VERSION:2.0
PRODID:-//FLOCK Running - ECPv6.15.20//NONSGML v1.0//EN
CALSCALE:GREGORIAN
METHOD:PUBLISH
X-ORIGINAL-URL:https://flockrunning.com
X-WR-CALDESC:Events for FLOCK Running
REFRESH-INTERVAL;VALUE=DURATION:PT1H
X-Robots-Tag:noindex
X-PUBLISHED-TTL:PT1H
BEGIN:VTIMEZONE
TZID:Europe/London
BEGIN:DAYLIGHT
TZOFFSETFROM:+0000
TZOFFSETTO:+0100
TZNAME:BST
DTSTART:20250330T010000
END:DAYLIGHT
BEGIN:STANDARD
TZOFFSETFROM:+0100
TZOFFSETTO:+0000
TZNAME:GMT
DTSTART:20251026T010000
END:STANDARD
BEGIN:DAYLIGHT
TZOFFSETFROM:+0000
TZOFFSETTO:+0100
TZNAME:BST
DTSTART:20260329T010000
END:DAYLIGHT
BEGIN:STANDARD
TZOFFSETFROM:+0100
TZOFFSETTO:+0000
TZNAME:GMT
DTSTART:20261025T010000
END:STANDARD
BEGIN:DAYLIGHT
TZOFFSETFROM:+0000
TZOFFSETTO:+0100
TZNAME:BST
DTSTART:20270328T010000
END:DAYLIGHT
BEGIN:STANDARD
TZOFFSETFROM:+0100
TZOFFSETTO:+0000
TZNAME:GMT
DTSTART:20271031T010000
END:STANDARD
END:VTIMEZONE
BEGIN:VEVENT
DTSTART;TZID=Europe/London:20260508T070000
DTEND;TZID=Europe/London:20260508T080000
DTSTAMP:20260419T214102
CREATED:20260412T094517Z
LAST-MODIFIED:20260419T145501Z
UID:11006-1778223600-1778227200@flockrunning.com
SUMMARY:Level 1 - Sunrise Trails Scratlee 6K
DESCRIPTION:
URL:https://flockrunning.com/event/level-1-sunrise-trails-scratlee-6k/
LOCATION:Star & Garter\, Main Road\, East Dean
CATEGORIES:6K Trail Run,LEVEL 1,Slouch to 5K,Sunrise Trails,Trail Run Sussex,Trail Running
ATTACH;FMTTYPE=image/jpeg:https://flockrunning.com/wp-content/uploads/2026/04/FLOCK-Sunrise-Trail-Running.jpg
END:VEVENT
BEGIN:VEVENT
DTSTART;TZID=Europe/London:20260509T090000
DTEND;TZID=Europe/London:20260509T103000
DTSTAMP:20260419T214102
CREATED:20260419T191747Z
LAST-MODIFIED:20260419T192005Z
UID:12006-1778317200-1778322600@flockrunning.com
SUMMARY:Level 1 - Saturday Slow Slindon Hidden Trails 5K
DESCRIPTION:
URL:https://flockrunning.com/event/level-1-saturday-slow-slindon-hidden-trails-5k/
LOCATION:Slindon Woods\, Dukes Road\, Fontwell
CATEGORIES:5K Trail Run,LEVEL 1,Multi Terrain,Run Training,Slouch to 5K,Sunrise Trails,Trail Run Sussex
ATTACH;FMTTYPE=image/jpeg:https://flockrunning.com/wp-content/uploads/2026/04/FLOCK-Saturday-Slow-Trail-Running.jpg
END:VEVENT
END:VCALENDAR