BEGIN:VCALENDAR
VERSION:2.0
PRODID:-//FLOCK Running - ECPv6.15.20//NONSGML v1.0//EN
CALSCALE:GREGORIAN
METHOD:PUBLISH
X-WR-CALNAME:FLOCK Running
X-ORIGINAL-URL:https://flockrunning.com
X-WR-CALDESC:Events for FLOCK Running
REFRESH-INTERVAL;VALUE=DURATION:PT1H
X-Robots-Tag:noindex
X-PUBLISHED-TTL:PT1H
BEGIN:VTIMEZONE
TZID:Europe/London
BEGIN:DAYLIGHT
TZOFFSETFROM:+0000
TZOFFSETTO:+0100
TZNAME:BST
DTSTART:20250330T010000
END:DAYLIGHT
BEGIN:STANDARD
TZOFFSETFROM:+0100
TZOFFSETTO:+0000
TZNAME:GMT
DTSTART:20251026T010000
END:STANDARD
BEGIN:DAYLIGHT
TZOFFSETFROM:+0000
TZOFFSETTO:+0100
TZNAME:BST
DTSTART:20260329T010000
END:DAYLIGHT
BEGIN:STANDARD
TZOFFSETFROM:+0100
TZOFFSETTO:+0000
TZNAME:GMT
DTSTART:20261025T010000
END:STANDARD
BEGIN:DAYLIGHT
TZOFFSETFROM:+0000
TZOFFSETTO:+0100
TZNAME:BST
DTSTART:20270328T010000
END:DAYLIGHT
BEGIN:STANDARD
TZOFFSETFROM:+0100
TZOFFSETTO:+0000
TZNAME:GMT
DTSTART:20271031T010000
END:STANDARD
END:VTIMEZONE
BEGIN:VEVENT
DTSTART;TZID=Europe/London:20260422T090000
DTEND;TZID=Europe/London:20260422T100000
DTSTAMP:20260419T200348
CREATED:20260404T151534Z
LAST-MODIFIED:20260419T152623Z
UID:10796-1776848400-1776852000@flockrunning.com
SUMMARY:Level 1 - Easy Trails Houghton Forest 5K
DESCRIPTION:
URL:https://flockrunning.com/event/level-1-easy-trails-houghton-forest-5k/
LOCATION:Houghton Forest\, Whiteways Car Park\, Bury Hill
CATEGORIES:5K Trail Run,LEVEL 1,Multi Terrain,Slouch to 5K,Trail Run Sussex,Trail Running
ATTACH;FMTTYPE=image/jpeg:https://flockrunning.com/wp-content/uploads/2026/04/FLOCK-Saturday-Slow-Trail-Running.jpg
END:VEVENT
END:VCALENDAR