BEGIN:VCALENDAR
VERSION:2.0
PRODID:-//FLOCK Running - ECPv6.15.20//NONSGML v1.0//EN
CALSCALE:GREGORIAN
METHOD:PUBLISH
X-WR-CALNAME:FLOCK Running
X-ORIGINAL-URL:https://flockrunning.com
X-WR-CALDESC:Events for FLOCK Running
REFRESH-INTERVAL;VALUE=DURATION:PT1H
X-Robots-Tag:noindex
X-PUBLISHED-TTL:PT1H
BEGIN:VTIMEZONE
TZID:Europe/London
BEGIN:DAYLIGHT
TZOFFSETFROM:+0000
TZOFFSETTO:+0100
TZNAME:BST
DTSTART:20250330T010000
END:DAYLIGHT
BEGIN:STANDARD
TZOFFSETFROM:+0100
TZOFFSETTO:+0000
TZNAME:GMT
DTSTART:20251026T010000
END:STANDARD
BEGIN:DAYLIGHT
TZOFFSETFROM:+0000
TZOFFSETTO:+0100
TZNAME:BST
DTSTART:20260329T010000
END:DAYLIGHT
BEGIN:STANDARD
TZOFFSETFROM:+0100
TZOFFSETTO:+0000
TZNAME:GMT
DTSTART:20261025T010000
END:STANDARD
BEGIN:DAYLIGHT
TZOFFSETFROM:+0000
TZOFFSETTO:+0100
TZNAME:BST
DTSTART:20270328T010000
END:DAYLIGHT
BEGIN:STANDARD
TZOFFSETFROM:+0100
TZOFFSETTO:+0000
TZNAME:GMT
DTSTART:20271031T010000
END:STANDARD
END:VTIMEZONE
BEGIN:VEVENT
DTSTART;TZID=Europe/London:20260524T090000
DTEND;TZID=Europe/London:20260524T110000
DTSTAMP:20260420T193717
CREATED:20260420T115420Z
LAST-MODIFIED:20260420T115420Z
UID:12037-1779613200-1779620400@flockrunning.com
SUMMARY:The Mountain Challenge Bignor Hill
DESCRIPTION:
URL:https://flockrunning.com/event/the-mountain-challenge-bignor-hill/
LOCATION:Bignor Hill Car Park\, Bignor Hill Car Park\, Bignor Down\, United Kingdom
CATEGORIES:LEVEL 1,LEVEL 2,LEVEL 3,LEVEL 4,Mountain Challenge,Multi Terrain,Run Training,Trail Run Sussex
ATTACH;FMTTYPE=image/jpeg:https://flockrunning.com/wp-content/uploads/2026/04/FLOCK-Mountain-Challenge.jpg
END:VEVENT
END:VCALENDAR